BEGIN:VCALENDAR
VERSION:2.0
PRODID:-//Purple Project - ECPv6.15.20//NONSGML v1.0//EN
CALSCALE:GREGORIAN
METHOD:PUBLISH
X-WR-CALNAME:Purple Project
X-ORIGINAL-URL:https://purpleproject.it
X-WR-CALDESC:Eventi per Purple Project
REFRESH-INTERVAL;VALUE=DURATION:PT1H
X-Robots-Tag:noindex
X-PUBLISHED-TTL:PT1H
BEGIN:VTIMEZONE
TZID:Europe/Rome
BEGIN:DAYLIGHT
TZOFFSETFROM:+0100
TZOFFSETTO:+0200
TZNAME:CEST
DTSTART:20220327T010000
END:DAYLIGHT
BEGIN:STANDARD
TZOFFSETFROM:+0200
TZOFFSETTO:+0100
TZNAME:CET
DTSTART:20221030T010000
END:STANDARD
BEGIN:DAYLIGHT
TZOFFSETFROM:+0100
TZOFFSETTO:+0200
TZNAME:CEST
DTSTART:20230326T010000
END:DAYLIGHT
BEGIN:STANDARD
TZOFFSETFROM:+0200
TZOFFSETTO:+0100
TZNAME:CET
DTSTART:20231029T010000
END:STANDARD
BEGIN:DAYLIGHT
TZOFFSETFROM:+0100
TZOFFSETTO:+0200
TZNAME:CEST
DTSTART:20240331T010000
END:DAYLIGHT
BEGIN:STANDARD
TZOFFSETFROM:+0200
TZOFFSETTO:+0100
TZNAME:CET
DTSTART:20241027T010000
END:STANDARD
BEGIN:DAYLIGHT
TZOFFSETFROM:+0100
TZOFFSETTO:+0200
TZNAME:CEST
DTSTART:20250330T010000
END:DAYLIGHT
BEGIN:STANDARD
TZOFFSETFROM:+0200
TZOFFSETTO:+0100
TZNAME:CET
DTSTART:20251026T010000
END:STANDARD
END:VTIMEZONE
BEGIN:VEVENT
DTSTART;TZID=Europe/Rome:20231201T080000
DTEND;TZID=Europe/Rome:20240206T170000
DTSTAMP:20260426T002504
CREATED:20231123T133201Z
LAST-MODIFIED:20231123T133201Z
UID:29439-1701417600-1707238800@purpleproject.it
SUMMARY:Mostra ""Di porpora e di luce. Forma e materia dell'antico nei codici della Biblioteca Nazionale di Napoli"
DESCRIPTION:Dal 1 dicembre 2023 al 6 febbraio 2024 resterà aperta la mostra “Di porpora e di luce. Forma e materia dell’antico nei codici della Biblioteca Nazionale di Napoli”.\nLa mostra\, organizzata nell’ambito del progetto PURPLE\, sarà l’occasione per presentare i risultati delle ricerche condotte sui codici purpurei della Biblioteca Nazionale di Napoli\, un corpus di grande interesse che offre una casistica ampia e variegata per cronologia (dal V al XV secolo) e provenienze geografiche
URL:https://purpleproject.it/appuntamento/mostra-di-porpora-e-di-luce-forma-e-materia-dellantico-nei-codici-della-biblioteca-nazionale-di-napoli/
ATTACH;FMTTYPE=application/pdf:https://purpleproject.it/wp-content/uploads/2023/11/locandina-mostra_Di-porpora-e-di-luce.pdf
END:VEVENT
END:VCALENDAR