BEGIN:VCALENDAR
VERSION:2.0
PRODID:-//Purple Project - ECPv6.15.20//NONSGML v1.0//EN
CALSCALE:GREGORIAN
METHOD:PUBLISH
X-WR-CALNAME:Purple Project
X-ORIGINAL-URL:https://purpleproject.it
X-WR-CALDESC:Eventi per Purple Project
REFRESH-INTERVAL;VALUE=DURATION:PT1H
X-Robots-Tag:noindex
X-PUBLISHED-TTL:PT1H
BEGIN:VTIMEZONE
TZID:Europe/Rome
BEGIN:DAYLIGHT
TZOFFSETFROM:+0100
TZOFFSETTO:+0200
TZNAME:CEST
DTSTART:20230326T010000
END:DAYLIGHT
BEGIN:STANDARD
TZOFFSETFROM:+0200
TZOFFSETTO:+0100
TZNAME:CET
DTSTART:20231029T010000
END:STANDARD
BEGIN:DAYLIGHT
TZOFFSETFROM:+0100
TZOFFSETTO:+0200
TZNAME:CEST
DTSTART:20240331T010000
END:DAYLIGHT
BEGIN:STANDARD
TZOFFSETFROM:+0200
TZOFFSETTO:+0100
TZNAME:CET
DTSTART:20241027T010000
END:STANDARD
BEGIN:DAYLIGHT
TZOFFSETFROM:+0100
TZOFFSETTO:+0200
TZNAME:CEST
DTSTART:20250330T010000
END:DAYLIGHT
BEGIN:STANDARD
TZOFFSETFROM:+0200
TZOFFSETTO:+0100
TZNAME:CET
DTSTART:20251026T010000
END:STANDARD
END:VTIMEZONE
BEGIN:VEVENT
DTSTART;TZID=Europe/Rome:20240208T150000
DTEND;TZID=Europe/Rome:20240208T170000
DTSTAMP:20260425T224721
CREATED:20250404T172343Z
LAST-MODIFIED:20250404T173822Z
UID:29526-1707404400-1707411600@purpleproject.it
SUMMARY:Seminario di Elena De Laurentis
DESCRIPTION:Elena De Laurentis\, Codici purpurei e manoscritti con carte tinte del Rinascimento: il Messale del cardnale Domenico della Rovere di Palazzo Madama \nintroduce e modera Fabrizio Crivello\, Università degli Studi di Torino \nPer il Ciclo di Conferenze di Storia dell’Arte 2024 – Dottorato in Storia dell’Arte dell’Università degli Studi di Torino \n\n\n\n\nTorino\, Palazzo Nuovo\, III piano\, aula seminari \nper partecipare a distanza\, accedere al collegamento: \nhttps://unito.webex.com/meet/fabrizio.crivello
URL:https://purpleproject.it/appuntamento/conferenza-di-elena-de-laurentis/
LOCATION:Torino\, Palazzo Nuovo
ATTACH;FMTTYPE=application/pdf:https://purpleproject.it/wp-content/uploads/2025/04/Locandina-purpurei-De-Laurentiis-1.pdf
END:VEVENT
END:VCALENDAR