BEGIN:VCALENDAR
VERSION:2.0
PRODID:-//Purple Project - ECPv6.15.20//NONSGML v1.0//EN
CALSCALE:GREGORIAN
METHOD:PUBLISH
X-WR-CALNAME:Purple Project
X-ORIGINAL-URL:https://purpleproject.it
X-WR-CALDESC:Eventi per Purple Project
REFRESH-INTERVAL;VALUE=DURATION:PT1H
X-Robots-Tag:noindex
X-PUBLISHED-TTL:PT1H
BEGIN:VTIMEZONE
TZID:Europe/Rome
BEGIN:DAYLIGHT
TZOFFSETFROM:+0100
TZOFFSETTO:+0200
TZNAME:CEST
DTSTART:20210328T010000
END:DAYLIGHT
BEGIN:STANDARD
TZOFFSETFROM:+0200
TZOFFSETTO:+0100
TZNAME:CET
DTSTART:20211031T010000
END:STANDARD
BEGIN:DAYLIGHT
TZOFFSETFROM:+0100
TZOFFSETTO:+0200
TZNAME:CEST
DTSTART:20220327T010000
END:DAYLIGHT
BEGIN:STANDARD
TZOFFSETFROM:+0200
TZOFFSETTO:+0100
TZNAME:CET
DTSTART:20221030T010000
END:STANDARD
BEGIN:DAYLIGHT
TZOFFSETFROM:+0100
TZOFFSETTO:+0200
TZNAME:CEST
DTSTART:20230326T010000
END:DAYLIGHT
BEGIN:STANDARD
TZOFFSETFROM:+0200
TZOFFSETTO:+0100
TZNAME:CET
DTSTART:20231029T010000
END:STANDARD
BEGIN:DAYLIGHT
TZOFFSETFROM:+0100
TZOFFSETTO:+0200
TZNAME:CEST
DTSTART:20240331T010000
END:DAYLIGHT
BEGIN:STANDARD
TZOFFSETFROM:+0200
TZOFFSETTO:+0100
TZNAME:CET
DTSTART:20241027T010000
END:STANDARD
END:VTIMEZONE
BEGIN:VEVENT
DTSTART;VALUE=DATE:20231218
DTEND;VALUE=DATE:20231219
DTSTAMP:20260426T043419
CREATED:20231207T135659Z
LAST-MODIFIED:20231207T135659Z
UID:29468-1702857600-1702943999@purpleproject.it
SUMMARY:Il rosso e il nero. Giornata di studi sui manoscritti purpurei e con carte tinte
DESCRIPTION:Padova\, Palazzo Liviano\, aula Diano \n18 dicembre 2023 \nIl giorno lunedì 18 dicembre 2023\, presso l’Aula Diano di Palazzo Liviano (piazza Capitaniato 7 – 35139 PADOVA)\, si terrà la giornata di studi sul tema”Il rosso e il nero. Giornata di studi sui manoscritti purpurei e con carte tinte”\, in cui interverranno Chiara Ponchia\, Federica Toniolo e Laura Zabeo (PURPLE – unità di ricerca dell’Università degli Studi di Padova)\, Josefina Planas Badenas (Universitat de Lleida) e Margherita Zibordi (Università degli Studi di Verona).
URL:https://purpleproject.it/appuntamento/il-rosso-e-il-nero-giornata-di-studi-sui-manoscritti-purpurei-e-con-carte-tinte/
ATTACH;FMTTYPE=application/pdf:https://purpleproject.it/wp-content/uploads/2023/12/20231218RossoNero.pdf
END:VEVENT
BEGIN:VEVENT
DTSTART;TZID=Europe/Rome:20231122T080000
DTEND;TZID=Europe/Rome:20231124T170000
DTSTAMP:20260426T043419
CREATED:20231207T134603Z
LAST-MODIFIED:20231207T134603Z
UID:29461-1700640000-1700845200@purpleproject.it
SUMMARY:Al crocevia del Mediterraneo. La Monarchia umanistica aragonese nel contesto ideologico e culturale del Rinascimento
DESCRIPTION:Napoli\, Palazzo Du Mesnil\, 22-24 novembre 2023 \nNel contesto del convegno “Al crocevia del Mediterraneo. La Monarchia umanistica aragonese nel contesto ideologico e culturale del Rinascimento”\, Teresa D’Urso presenterà la relazione dal titolo “Un’eredità mediterranea. La porpora nei manoscritti rinascimentali napoletani”.
URL:https://purpleproject.it/appuntamento/al-crocevia-del-mediterraneo-la-monarchia-umanistica-aragonese-nel-contesto-ideologico-e-culturale-del-rinascimento/
ATTACH;FMTTYPE=application/pdf:https://purpleproject.it/wp-content/uploads/2023/12/Brochure_Al-crocevia-1.pdf
END:VEVENT
BEGIN:VEVENT
DTSTART;TZID=Europe/Rome:20231027T150000
DTEND;TZID=Europe/Rome:20231027T170000
DTSTAMP:20260426T043419
CREATED:20231020T113953Z
LAST-MODIFIED:20231020T113953Z
UID:29426-1698418800-1698426000@purpleproject.it
SUMMARY:Conferenza “I codici purpurei e l’Offiziolo Durazzo”
DESCRIPTION:Genova\, Palazzo Balbi Senarega\, Aula M\, ore 15:00 \n  \nVenerdì 27 ottobre 2023 Federica Toniolo\, Chiara Ponchia e Maurizio Aceto parleranno dell’Offiziolo Durazzo e del progetto PURPLE in una conferenza dal titolo “I codici purpurei e l’Offiziolo Durazzo”.
URL:https://purpleproject.it/appuntamento/conferenza-i-codici-purpurei-e-loffiziolo-durazzo/
ATTACH;FMTTYPE=image/jpeg:https://purpleproject.it/wp-content/uploads/2023/10/Locandina-Genova-27-ottobre-2023.jpg
END:VEVENT
BEGIN:VEVENT
DTSTART;TZID=Europe/Rome:20230509T150000
DTEND;TZID=Europe/Rome:20230509T170000
DTSTAMP:20260426T043419
CREATED:20230510T131510Z
LAST-MODIFIED:20230510T131510Z
UID:29365-1683644400-1683651600@purpleproject.it
SUMMARY:Ciclo di conferenze "Medioevo dottorale\, Ricerche in corso\, pubblicazioni recenti"
DESCRIPTION:Verona\, Dipartimento di Culture e Civiltà \nNell’ambito del ciclo di conferenze “Medioevo dottorale\, Ricerche in corso\, pubblicazioni recenti”\, Chiara Ponchia terrà una lezione intitolata “Pagine preziose: la lunga storia dei codici purpurei”.
URL:https://purpleproject.it/appuntamento/ciclo-di-conferenze-medioevo-dottorale-ricerche-in-corso-pubblicazioni-recenti/
ATTACH;FMTTYPE=application/pdf:https://purpleproject.it/wp-content/uploads/2023/05/Locandina-Medioevo-dottorale-2023.pdf
END:VEVENT
BEGIN:VEVENT
DTSTART;TZID=Europe/Rome:20230322T000000
DTEND;TZID=Europe/Rome:20230323T000000
DTSTAMP:20260426T043419
CREATED:20230306T140828Z
LAST-MODIFIED:20230307T101025Z
UID:29344-1679443200-1679529600@purpleproject.it
SUMMARY:Convegno “Buchkunst und Bildgestaltung um 1000. Der Diskurs der ottonischen Epoche”
DESCRIPTION:Trier\, Wissenschaftliche Bibliothek der Stadt \n\nIn occasione del convegno ““Buchkunst und Bildgestaltung um 1000. Der Diskurs der ottonischen Epoche”\, Fabrizio Crivello presenterà il paper “Trier und die Purpurhandschriften der ottonischen Zeit”\, frutto di ricerche condotte nell’ambito del progetto PURPLE.
URL:https://purpleproject.it/appuntamento/29333/
ATTACH;FMTTYPE=application/pdf:https://purpleproject.it/wp-content/uploads/2023/03/Flyer-Tagung-23.03.2023-Endfassung.pdf
END:VEVENT
BEGIN:VEVENT
DTSTART;VALUE=DATE:20221212
DTEND;VALUE=DATE:20221215
DTSTAMP:20260426T043419
CREATED:20221201T121627Z
LAST-MODIFIED:20221212T132732Z
UID:29059-1670803200-1671062399@purpleproject.it
SUMMARY:Convegno internazionale di studi “Iconografia 2022. La rappresentazione dello spazio tra realtà e simbolo”
DESCRIPTION:Padova\, Palazzo Liviano – Venezia\, Istituto Veneto di Scienze\, Lettere ed Arti – 12-14 dicembre 2022 \nIn occasione del convegno internazionale di studi “Iconografia 2022. La rappresentazione dello spazio tra realtà e simbolo”\, due membri del consorzio\, Federica Toniolo e Chiara Ponchia\, presenteranno il paper “Lo spazio della porpora\, lo spazio nella porpora. Un primo censimento”\, frutto di ricerche condotte nell’ambito del progetto PURPLE.
URL:https://purpleproject.it/appuntamento/convegno-internazionale-di-studi-iconografia-2022-la-rappresentazione-dello-spazio-tra-realta-e-simbolo/
LOCATION:Palazzo Liviano\, Piazza Capitaniato\, 7\, padova\, padova\, 35139\, Italia
ATTACH;FMTTYPE=image/jpeg:https://purpleproject.it/wp-content/uploads/2022/12/Locandina-Iconografia2022.jpg
END:VEVENT
BEGIN:VEVENT
DTSTART;TZID=Europe/Rome:20220922T093000
DTEND;TZID=Europe/Rome:20220922T210000
DTSTAMP:20260426T043419
CREATED:20220922T134444Z
LAST-MODIFIED:20230619T103914Z
UID:29266-1663839000-1663880400@purpleproject.it
SUMMARY:Convegno internazionale di studi “La cattedrale di Piacenza e la civiltà medievale”
DESCRIPTION:Convegno internazionale di studi “La cattedrale di Piacenza e la civiltà medievale” Piacenza\, 20-24 settembre 2022 \nIn occasione del convegno internazionale di studi “La cattedrale di Piacenza e la civiltà medievale”\, Fabrizio Crivello ha presentato le sue ricerche in merito al Salterio di Angilberga\, uno dei più celebri codici purpurei medievali\, in una relazione intitolata “Il Salterio di Angilberga: prime riconsiderazioni”. \nDownload programma in PDF
URL:https://purpleproject.it/appuntamento/convegno-internazionale-di-studi-la-cattedrale-di-piacenza-e-la-civilta-medievale/
ATTACH;FMTTYPE=image/png:https://purpleproject.it/wp-content/uploads/2022/12/Appuntamento-Piacenza.png
END:VEVENT
END:VCALENDAR