BEGIN:VCALENDAR
VERSION:2.0
PRODID:-//Purple Project - ECPv6.15.20//NONSGML v1.0//EN
CALSCALE:GREGORIAN
METHOD:PUBLISH
X-ORIGINAL-URL:https://purpleproject.it/en/
X-WR-CALDESC:Events for Purple Project
REFRESH-INTERVAL;VALUE=DURATION:PT1H
X-Robots-Tag:noindex
X-PUBLISHED-TTL:PT1H
BEGIN:VTIMEZONE
TZID:Europe/Rome
BEGIN:DAYLIGHT
TZOFFSETFROM:+0100
TZOFFSETTO:+0200
TZNAME:CEST
DTSTART:20230326T010000
END:DAYLIGHT
BEGIN:STANDARD
TZOFFSETFROM:+0200
TZOFFSETTO:+0100
TZNAME:CET
DTSTART:20231029T010000
END:STANDARD
BEGIN:DAYLIGHT
TZOFFSETFROM:+0100
TZOFFSETTO:+0200
TZNAME:CEST
DTSTART:20240331T010000
END:DAYLIGHT
BEGIN:STANDARD
TZOFFSETFROM:+0200
TZOFFSETTO:+0100
TZNAME:CET
DTSTART:20241027T010000
END:STANDARD
BEGIN:DAYLIGHT
TZOFFSETFROM:+0100
TZOFFSETTO:+0200
TZNAME:CEST
DTSTART:20250330T010000
END:DAYLIGHT
BEGIN:STANDARD
TZOFFSETFROM:+0200
TZOFFSETTO:+0100
TZNAME:CET
DTSTART:20251026T010000
END:STANDARD
END:VTIMEZONE
BEGIN:VEVENT
DTSTART;TZID=Europe/Rome:20240925T080000
DTEND;TZID=Europe/Rome:20240928T170000
DTSTAMP:20260423T205622
CREATED:20240525T144905Z
LAST-MODIFIED:20240525T145053Z
UID:29494-1727251200-1727542800@purpleproject.it
SUMMARY:Conferenza nell'ambito del "VII. Forum Kunst des Mittelalters. Licht: Kunst\, Metaphysik und Naturwissenschaft im Mittelalter"
DESCRIPTION:In the framework of the “VII. Forum Kunst des Mittelalters. Licht: Kunst\, Metaphysik und Naturwissenschaft im Mittelalter\,” to be held in Jena Sept. 25-28\, 2024\, Fabrizio Crivello will give a paper entitled “Gold glänzt auf Purpur. Zu den Initialzierseiten in den karolingischen Evangeliaren.” \n\nMore information is available at: https://www.dvfk-berlin.de/forum/.
URL:https://purpleproject.it/en/appuntamento/conferenza-nellambito-del-vii-forum-kunst-des-mittelalters-licht-kunst-metaphysik-und-naturwissenschaft-im-mittelalter/
ATTACH;FMTTYPE=application/pdf:https://purpleproject.it/wp-content/uploads/2024/05/Flyer_Forum-Jena.pdf
END:VEVENT
END:VCALENDAR