BEGIN:VCALENDAR
VERSION:2.0
PRODID:-//Purple Project - ECPv6.15.20//NONSGML v1.0//EN
CALSCALE:GREGORIAN
METHOD:PUBLISH
X-WR-CALNAME:Purple Project
X-ORIGINAL-URL:https://purpleproject.it/en/
X-WR-CALDESC:Events for Purple Project
REFRESH-INTERVAL;VALUE=DURATION:PT1H
X-Robots-Tag:noindex
X-PUBLISHED-TTL:PT1H
BEGIN:VTIMEZONE
TZID:Europe/Rome
BEGIN:DAYLIGHT
TZOFFSETFROM:+0100
TZOFFSETTO:+0200
TZNAME:CEST
DTSTART:20220327T010000
END:DAYLIGHT
BEGIN:STANDARD
TZOFFSETFROM:+0200
TZOFFSETTO:+0100
TZNAME:CET
DTSTART:20221030T010000
END:STANDARD
BEGIN:DAYLIGHT
TZOFFSETFROM:+0100
TZOFFSETTO:+0200
TZNAME:CEST
DTSTART:20230326T010000
END:DAYLIGHT
BEGIN:STANDARD
TZOFFSETFROM:+0200
TZOFFSETTO:+0100
TZNAME:CET
DTSTART:20231029T010000
END:STANDARD
BEGIN:DAYLIGHT
TZOFFSETFROM:+0100
TZOFFSETTO:+0200
TZNAME:CEST
DTSTART:20240331T010000
END:DAYLIGHT
BEGIN:STANDARD
TZOFFSETFROM:+0200
TZOFFSETTO:+0100
TZNAME:CET
DTSTART:20241027T010000
END:STANDARD
BEGIN:DAYLIGHT
TZOFFSETFROM:+0100
TZOFFSETTO:+0200
TZNAME:CEST
DTSTART:20250330T010000
END:DAYLIGHT
BEGIN:STANDARD
TZOFFSETFROM:+0200
TZOFFSETTO:+0100
TZNAME:CET
DTSTART:20251026T010000
END:STANDARD
END:VTIMEZONE
BEGIN:VEVENT
DTSTART;TZID=Europe/Rome:20231122T080000
DTEND;TZID=Europe/Rome:20231124T170000
DTSTAMP:20260425T170145
CREATED:20231207T134603Z
LAST-MODIFIED:20231207T134704Z
UID:29466-1700640000-1700845200@purpleproject.it
SUMMARY:At the Crossroads of the Mediterranean. The Aragonese Humanist Monarchy in the Ideological and Cultural Context of the Renaissance
DESCRIPTION:Naples\, Palazzo Du Mesnil\, 22-24 November 2023 \nIn the context of the conference ‘At the Crossroads of the Mediterranean. The Aragonese Humanist Monarchy in the Ideological and Cultural Context of the Renaissance’\, Teresa D’Urso will present a paper entitled ‘A Mediterranean Legacy. Purple in Neapolitan Renaissance Manuscripts’.
URL:https://purpleproject.it/en/appuntamento/al-crocevia-del-mediterraneo-la-monarchia-umanistica-aragonese-nel-contesto-ideologico-e-culturale-del-rinascimento/
ATTACH;FMTTYPE=application/pdf:https://purpleproject.it/wp-content/uploads/2023/12/Brochure_Al-crocevia-1.pdf
END:VEVENT
BEGIN:VEVENT
DTSTART;TZID=Europe/Rome:20231201T080000
DTEND;TZID=Europe/Rome:20240206T170000
DTSTAMP:20260425T170145
CREATED:20231123T133201Z
LAST-MODIFIED:20231123T133639Z
UID:29444-1701417600-1707238800@purpleproject.it
SUMMARY:Exhibition ""Di porpora e di luce. Forma e materia dell'antico nei codici della Biblioteca Nazionale di Napoli"
DESCRIPTION:The exhibition ‘Di porpora e di luce. Forma e materia dell’antico nei codici della Biblioteca Nazionale di Napoli’ will be open from the 1st December 2023 to the 6th February 2024\, .\nThe exhibition\, organised as part of the PURPLE project\, will be an opportunity to present the results of the research conducted on the Naples National Library’s purple codices\, a corpus of great interest that offers a wide and varied case study in terms of chronology (from the 5th to the 15th century) and geographical provenance
URL:https://purpleproject.it/en/appuntamento/mostra-di-porpora-e-di-luce-forma-e-materia-dellantico-nei-codici-della-biblioteca-nazionale-di-napoli/
ATTACH;FMTTYPE=application/pdf:https://purpleproject.it/wp-content/uploads/2023/11/locandina-mostra_Di-porpora-e-di-luce.pdf
END:VEVENT
BEGIN:VEVENT
DTSTART;VALUE=DATE:20231218
DTEND;VALUE=DATE:20231219
DTSTAMP:20260425T170145
CREATED:20231207T135659Z
LAST-MODIFIED:20231207T140025Z
UID:29473-1702857600-1702943999@purpleproject.it
SUMMARY:Red and black. Study day on purple manuscripts and manuscripts with dyed pages
DESCRIPTION:Padua\, Liviano Palace\, Aula Diano \n18th December 2023 \nOn Monday 18th December 2023\, at the Aula Diano of Palazzo Liviano (piazza Capitaniato 7 – 35139 PADOVA)\, a study day will be held on the theme “Red and black. Study day on purple manuscripts and manuscripts with dyed pages”. Chiara Ponchia\, Federica Toniolo and Laura Zabeo (PURPLE – research unit of the University of Padua)\, Josefina Planas Badenas (Universitat de Lleida) and Margherita Zibordi (University of Verona) will present their research.
URL:https://purpleproject.it/en/appuntamento/il-rosso-e-il-nero-giornata-di-studi-sui-manoscritti-purpurei-e-con-carte-tinte/
ATTACH;FMTTYPE=application/pdf:https://purpleproject.it/wp-content/uploads/2023/12/20231218RossoNero.pdf
END:VEVENT
BEGIN:VEVENT
DTSTART;TZID=Europe/Rome:20240206T160000
DTEND;TZID=Europe/Rome:20240206T183000
DTSTAMP:20260425T170145
CREATED:20240130T084242Z
LAST-MODIFIED:20240130T084545Z
UID:29482-1707235200-1707244200@purpleproject.it
SUMMARY:Finissage of the exhibition “Di porpora e di luce" - Biblioteca Nazionale di Napoli\, Sala Rari\, 6th February 2024\, 4 pm
DESCRIPTION:Tuesday 6th February 2024 marks the end of the exhibition ‘Di porpora e di luce. Forma e materia dell’Antico nei codici della Biblioteca Nazionale di Napoli”\, inaugurated last 1st December and curated by Daniela Bacca\, Teresa D’Urso and Giulia Simeoni. The exhibition recounts the centuries-long adventure of the purple manuscripts\, a book product of great value\, which from Antiquity to the Renaissance changed form\, meaning and function\, while maintaining intrinsic symbolic values.\nThe closing event will offer a unique opportunity to get to know eight precious specimens from the Vittorio Emanuele III National Library and the Girolamini Library in Naples up close. For the occasion\, some of the manuscripts will be opened at different folios from those hitherto visible. The researchers behind the project will illustrate the latest findings\, guiding visitors to discover the materials and techniques used in the production of the purple manuscripts. \nFree admission.
URL:https://purpleproject.it/en/appuntamento/finissage-della-mostra-di-porpora-e-di-luce-biblioteca-nazionale-di-napoli-sala-rari-6-febbraio-2024-ore-16-00/
ATTACH;FMTTYPE=image/jpeg:https://purpleproject.it/wp-content/uploads/2024/01/locandina-mostra_Di-porpora-e-di-luce_page-0001.jpg
END:VEVENT
BEGIN:VEVENT
DTSTART;TZID=Europe/Rome:20240925T080000
DTEND;TZID=Europe/Rome:20240928T170000
DTSTAMP:20260425T170145
CREATED:20240525T144905Z
LAST-MODIFIED:20240525T145053Z
UID:29494-1727251200-1727542800@purpleproject.it
SUMMARY:Conferenza nell'ambito del "VII. Forum Kunst des Mittelalters. Licht: Kunst\, Metaphysik und Naturwissenschaft im Mittelalter"
DESCRIPTION:In the framework of the “VII. Forum Kunst des Mittelalters. Licht: Kunst\, Metaphysik und Naturwissenschaft im Mittelalter\,” to be held in Jena Sept. 25-28\, 2024\, Fabrizio Crivello will give a paper entitled “Gold glänzt auf Purpur. Zu den Initialzierseiten in den karolingischen Evangeliaren.” \n\nMore information is available at: https://www.dvfk-berlin.de/forum/.
URL:https://purpleproject.it/en/appuntamento/conferenza-nellambito-del-vii-forum-kunst-des-mittelalters-licht-kunst-metaphysik-und-naturwissenschaft-im-mittelalter/
ATTACH;FMTTYPE=application/pdf:https://purpleproject.it/wp-content/uploads/2024/05/Flyer_Forum-Jena.pdf
END:VEVENT
END:VCALENDAR